BEGIN:VCALENDAR
VERSION:2.0
PRODID:https://www.kufer.de/kuferweb / DE
METHOD:PUBLISH
CALSCALE:GREGORIAN
X-WR-TIMEZONE:Europe/Berlin
BEGIN:VTIMEZONE
TZID:Europe/Berlin
X-LIC-LOCATION:Europe/Berlin
BEGIN:DAYLIGHT
TZOFFSETFROM:+0100
TZOFFSETTO:+0200
TZNAME:CEST
DTSTART:19700329T020000
RRULE:FREQ=YEARLY;INTERVAL=1;BYDAY=-1SU;BYMONTH=3
END:DAYLIGHT
BEGIN:STANDARD
TZOFFSETFROM:+0200
TZOFFSETTO:+0100
TZNAME:CET
DTSTART:19701025T030000
RRULE:FREQ=YEARLY;INTERVAL=1;BYDAY=-1SU;BYMONTH=10
END:STANDARD
END:VTIMEZONE
BEGIN:VEVENT
DTSTAMP:20260420T073049
DTSTART;TZID=Europe/Berlin:20260303T183000
DTEND;TZID=Europe/Berlin:20260303T193000
UID:501126107-20260303T183000@VHSBENDORF
SUMMARY:Endlich fit am Handy - Erste Schritte am Handy, Tablet & Im Internet (501126107) 
LOCATION:vhs-Haus; Raum 002 (EG), Kirchplatz 9 b, 56170 Bendorf
END:VEVENT
BEGIN:VEVENT
DTSTAMP:20260420T073049
DTSTART;TZID=Europe/Berlin:20260310T183000
DTEND;TZID=Europe/Berlin:20260310T193000
UID:501126107-20260310T183000@VHSBENDORF
SUMMARY:Endlich fit am Handy - Erste Schritte am Handy, Tablet & Im Internet (501126107) 
LOCATION:vhs-Haus; Raum 002 (EG), Kirchplatz 9 b, 56170 Bendorf
END:VEVENT
BEGIN:VEVENT
DTSTAMP:20260420T073049
DTSTART;TZID=Europe/Berlin:20260317T183000
DTEND;TZID=Europe/Berlin:20260317T193000
UID:501126107-20260317T183000@VHSBENDORF
SUMMARY:Endlich fit am Handy - Erste Schritte am Handy, Tablet & Im Internet (501126107) 
LOCATION:vhs-Haus; Raum 002 (EG), Kirchplatz 9 b, 56170 Bendorf
END:VEVENT
BEGIN:VEVENT
DTSTAMP:20260420T073049
DTSTART;TZID=Europe/Berlin:20260324T183000
DTEND;TZID=Europe/Berlin:20260324T193000
UID:501126107-20260324T183000@VHSBENDORF
SUMMARY:Endlich fit am Handy - Erste Schritte am Handy, Tablet & Im Internet (501126107) 
LOCATION:vhs-Haus; Raum 002 (EG), Kirchplatz 9 b, 56170 Bendorf
END:VEVENT
BEGIN:VEVENT
DTSTAMP:20260420T073049
DTSTART;TZID=Europe/Berlin:20260414T183000
DTEND;TZID=Europe/Berlin:20260414T193000
UID:501126107-20260414T183000@VHSBENDORF
SUMMARY:Endlich fit am Handy - Erste Schritte am Handy, Tablet & Im Internet (501126107) 
LOCATION:vhs-Haus; Raum 002 (EG), Kirchplatz 9 b, 56170 Bendorf
END:VEVENT
BEGIN:VEVENT
DTSTAMP:20260420T073049
DTSTART;TZID=Europe/Berlin:20260421T183000
DTEND;TZID=Europe/Berlin:20260421T193000
UID:501126107-20260421T183000@VHSBENDORF
SUMMARY:Endlich fit am Handy - Erste Schritte am Handy, Tablet & Im Internet (501126107) 
LOCATION:vhs-Haus; Raum 002 (EG), Kirchplatz 9 b, 56170 Bendorf
END:VEVENT
END:VCALENDAR