BEGIN:VCALENDAR
VERSION:2.0
PRODID:https://www.kufer.de/kuferweb / DE
METHOD:PUBLISH
CALSCALE:GREGORIAN
X-WR-TIMEZONE:Europe/Berlin
BEGIN:VTIMEZONE
TZID:Europe/Berlin
X-LIC-LOCATION:Europe/Berlin
BEGIN:DAYLIGHT
TZOFFSETFROM:+0100
TZOFFSETTO:+0200
TZNAME:CEST
DTSTART:19700329T020000
RRULE:FREQ=YEARLY;INTERVAL=1;BYDAY=-1SU;BYMONTH=3
END:DAYLIGHT
BEGIN:STANDARD
TZOFFSETFROM:+0200
TZOFFSETTO:+0100
TZNAME:CET
DTSTART:19701025T030000
RRULE:FREQ=YEARLY;INTERVAL=1;BYDAY=-1SU;BYMONTH=10
END:STANDARD
END:VTIMEZONE
BEGIN:VEVENT
DTSTAMP:20260420T073058
DTSTART;TZID=Europe/Berlin:20260303T183000
DTEND;TZID=Europe/Berlin:20260303T200000
UID:406126423-20260303T183000@VHSBENDORF
SUMMARY:Upgrade your skills and activities in English! (B1 GER)	 (406126423) 
LOCATION:Karl-Fries-Realschule plus, Raum 255, Lohweg 22, 56170 Bendorf
END:VEVENT
BEGIN:VEVENT
DTSTAMP:20260420T073058
DTSTART;TZID=Europe/Berlin:20260310T183000
DTEND;TZID=Europe/Berlin:20260310T200000
UID:406126423-20260310T183000@VHSBENDORF
SUMMARY:Upgrade your skills and activities in English! (B1 GER)	 (406126423) 
LOCATION:Karl-Fries-Realschule plus, Raum 255, Lohweg 22, 56170 Bendorf
END:VEVENT
BEGIN:VEVENT
DTSTAMP:20260420T073058
DTSTART;TZID=Europe/Berlin:20260317T183000
DTEND;TZID=Europe/Berlin:20260317T200000
UID:406126423-20260317T183000@VHSBENDORF
SUMMARY:Upgrade your skills and activities in English! (B1 GER)	 (406126423) 
LOCATION:Karl-Fries-Realschule plus, Raum 255, Lohweg 22, 56170 Bendorf
END:VEVENT
BEGIN:VEVENT
DTSTAMP:20260420T073058
DTSTART;TZID=Europe/Berlin:20260324T183000
DTEND;TZID=Europe/Berlin:20260324T200000
UID:406126423-20260324T183000@VHSBENDORF
SUMMARY:Upgrade your skills and activities in English! (B1 GER)	 (406126423) 
LOCATION:Karl-Fries-Realschule plus, Raum 255, Lohweg 22, 56170 Bendorf
END:VEVENT
BEGIN:VEVENT
DTSTAMP:20260420T073058
DTSTART;TZID=Europe/Berlin:20260414T183000
DTEND;TZID=Europe/Berlin:20260414T200000
UID:406126423-20260414T183000@VHSBENDORF
SUMMARY:Upgrade your skills and activities in English! (B1 GER)	 (406126423) 
LOCATION:Karl-Fries-Realschule plus, Raum 255, Lohweg 22, 56170 Bendorf
END:VEVENT
BEGIN:VEVENT
DTSTAMP:20260420T073058
DTSTART;TZID=Europe/Berlin:20260421T183000
DTEND;TZID=Europe/Berlin:20260421T200000
UID:406126423-20260421T183000@VHSBENDORF
SUMMARY:Upgrade your skills and activities in English! (B1 GER)	 (406126423) 
LOCATION:Karl-Fries-Realschule plus, Raum 255, Lohweg 22, 56170 Bendorf
END:VEVENT
BEGIN:VEVENT
DTSTAMP:20260420T073058
DTSTART;TZID=Europe/Berlin:20260428T183000
DTEND;TZID=Europe/Berlin:20260428T200000
UID:406126423-20260428T183000@VHSBENDORF
SUMMARY:Upgrade your skills and activities in English! (B1 GER)	 (406126423) 
LOCATION:Karl-Fries-Realschule plus, Raum 255, Lohweg 22, 56170 Bendorf
END:VEVENT
BEGIN:VEVENT
DTSTAMP:20260420T073058
DTSTART;TZID=Europe/Berlin:20260505T183000
DTEND;TZID=Europe/Berlin:20260505T200000
UID:406126423-20260505T183000@VHSBENDORF
SUMMARY:Upgrade your skills and activities in English! (B1 GER)	 (406126423) 
LOCATION:Karl-Fries-Realschule plus, Raum 255, Lohweg 22, 56170 Bendorf
END:VEVENT
BEGIN:VEVENT
DTSTAMP:20260420T073058
DTSTART;TZID=Europe/Berlin:20260512T183000
DTEND;TZID=Europe/Berlin:20260512T200000
UID:406126423-20260512T183000@VHSBENDORF
SUMMARY:Upgrade your skills and activities in English! (B1 GER)	 (406126423) 
LOCATION:Karl-Fries-Realschule plus, Raum 255, Lohweg 22, 56170 Bendorf
END:VEVENT
BEGIN:VEVENT
DTSTAMP:20260420T073058
DTSTART;TZID=Europe/Berlin:20260519T183000
DTEND;TZID=Europe/Berlin:20260519T200000
UID:406126423-20260519T183000@VHSBENDORF
SUMMARY:Upgrade your skills and activities in English! (B1 GER)	 (406126423) 
LOCATION:Karl-Fries-Realschule plus, Raum 255, Lohweg 22, 56170 Bendorf
END:VEVENT
BEGIN:VEVENT
DTSTAMP:20260420T073058
DTSTART;TZID=Europe/Berlin:20260526T183000
DTEND;TZID=Europe/Berlin:20260526T200000
UID:406126423-20260526T183000@VHSBENDORF
SUMMARY:Upgrade your skills and activities in English! (B1 GER)	 (406126423) 
LOCATION:Karl-Fries-Realschule plus, Raum 255, Lohweg 22, 56170 Bendorf
END:VEVENT
BEGIN:VEVENT
DTSTAMP:20260420T073058
DTSTART;TZID=Europe/Berlin:20260602T183000
DTEND;TZID=Europe/Berlin:20260602T200000
UID:406126423-20260602T183000@VHSBENDORF
SUMMARY:Upgrade your skills and activities in English! (B1 GER)	 (406126423) 
LOCATION:Karl-Fries-Realschule plus, Raum 255, Lohweg 22, 56170 Bendorf
END:VEVENT
BEGIN:VEVENT
DTSTAMP:20260420T073058
DTSTART;TZID=Europe/Berlin:20260609T183000
DTEND;TZID=Europe/Berlin:20260609T200000
UID:406126423-20260609T183000@VHSBENDORF
SUMMARY:Upgrade your skills and activities in English! (B1 GER)	 (406126423) 
LOCATION:Karl-Fries-Realschule plus, Raum 255, Lohweg 22, 56170 Bendorf
END:VEVENT
BEGIN:VEVENT
DTSTAMP:20260420T073058
DTSTART;TZID=Europe/Berlin:20260616T183000
DTEND;TZID=Europe/Berlin:20260616T200000
UID:406126423-20260616T183000@VHSBENDORF
SUMMARY:Upgrade your skills and activities in English! (B1 GER)	 (406126423) 
LOCATION:Karl-Fries-Realschule plus, Raum 255, Lohweg 22, 56170 Bendorf
END:VEVENT
BEGIN:VEVENT
DTSTAMP:20260420T073058
DTSTART;TZID=Europe/Berlin:20260623T183000
DTEND;TZID=Europe/Berlin:20260623T200000
UID:406126423-20260623T183000@VHSBENDORF
SUMMARY:Upgrade your skills and activities in English! (B1 GER)	 (406126423) 
LOCATION:Karl-Fries-Realschule plus, Raum 255, Lohweg 22, 56170 Bendorf
END:VEVENT
END:VCALENDAR