BEGIN:VCALENDAR
VERSION:2.0
PRODID:https://www.kufer.de/kuferweb / DE
METHOD:PUBLISH
CALSCALE:GREGORIAN
X-WR-TIMEZONE:Europe/Berlin
BEGIN:VTIMEZONE
TZID:Europe/Berlin
X-LIC-LOCATION:Europe/Berlin
BEGIN:DAYLIGHT
TZOFFSETFROM:+0100
TZOFFSETTO:+0200
TZNAME:CEST
DTSTART:19700329T020000
RRULE:FREQ=YEARLY;INTERVAL=1;BYDAY=-1SU;BYMONTH=3
END:DAYLIGHT
BEGIN:STANDARD
TZOFFSETFROM:+0200
TZOFFSETTO:+0100
TZNAME:CET
DTSTART:19701025T030000
RRULE:FREQ=YEARLY;INTERVAL=1;BYDAY=-1SU;BYMONTH=10
END:STANDARD
END:VTIMEZONE
BEGIN:VEVENT
DTSTAMP:20260422T163058
DTSTART;TZID=Europe/Berlin:20260506T100000
DTEND;TZID=Europe/Berlin:20260506T120000
UID:404126103-20260506T100000@VHSBENDORF
SUMMARY:Frauensprachkurs Deutsch  (404126103) 
LOCATION:Moschee Bendorf / Mülhofen, Am Röttchenshammer 52 , 56170 Bendorf 
END:VEVENT
BEGIN:VEVENT
DTSTAMP:20260422T163058
DTSTART;TZID=Europe/Berlin:20260507T100000
DTEND;TZID=Europe/Berlin:20260507T120000
UID:404126103-20260507T100000@VHSBENDORF
SUMMARY:Frauensprachkurs Deutsch  (404126103) 
LOCATION:Moschee Bendorf / Mülhofen, Am Röttchenshammer 52 , 56170 Bendorf 
END:VEVENT
BEGIN:VEVENT
DTSTAMP:20260422T163058
DTSTART;TZID=Europe/Berlin:20260513T100000
DTEND;TZID=Europe/Berlin:20260513T120000
UID:404126103-20260513T100000@VHSBENDORF
SUMMARY:Frauensprachkurs Deutsch  (404126103) 
LOCATION:Moschee Bendorf / Mülhofen, Am Röttchenshammer 52 , 56170 Bendorf 
END:VEVENT
BEGIN:VEVENT
DTSTAMP:20260422T163058
DTSTART;TZID=Europe/Berlin:20260520T100000
DTEND;TZID=Europe/Berlin:20260520T120000
UID:404126103-20260520T100000@VHSBENDORF
SUMMARY:Frauensprachkurs Deutsch  (404126103) 
LOCATION:Moschee Bendorf / Mülhofen, Am Röttchenshammer 52 , 56170 Bendorf 
END:VEVENT
BEGIN:VEVENT
DTSTAMP:20260422T163058
DTSTART;TZID=Europe/Berlin:20260521T100000
DTEND;TZID=Europe/Berlin:20260521T120000
UID:404126103-20260521T100000@VHSBENDORF
SUMMARY:Frauensprachkurs Deutsch  (404126103) 
LOCATION:Moschee Bendorf / Mülhofen, Am Röttchenshammer 52 , 56170 Bendorf 
END:VEVENT
BEGIN:VEVENT
DTSTAMP:20260422T163058
DTSTART;TZID=Europe/Berlin:20260603T100000
DTEND;TZID=Europe/Berlin:20260603T120000
UID:404126103-20260603T100000@VHSBENDORF
SUMMARY:Frauensprachkurs Deutsch  (404126103) 
LOCATION:Moschee Bendorf / Mülhofen, Am Röttchenshammer 52 , 56170 Bendorf 
END:VEVENT
BEGIN:VEVENT
DTSTAMP:20260422T163058
DTSTART;TZID=Europe/Berlin:20260610T100000
DTEND;TZID=Europe/Berlin:20260610T120000
UID:404126103-20260610T100000@VHSBENDORF
SUMMARY:Frauensprachkurs Deutsch  (404126103) 
LOCATION:Moschee Bendorf / Mülhofen, Am Röttchenshammer 52 , 56170 Bendorf 
END:VEVENT
BEGIN:VEVENT
DTSTAMP:20260422T163058
DTSTART;TZID=Europe/Berlin:20260611T100000
DTEND;TZID=Europe/Berlin:20260611T120000
UID:404126103-20260611T100000@VHSBENDORF
SUMMARY:Frauensprachkurs Deutsch  (404126103) 
LOCATION:Moschee Bendorf / Mülhofen, Am Röttchenshammer 52 , 56170 Bendorf 
END:VEVENT
BEGIN:VEVENT
DTSTAMP:20260422T163058
DTSTART;TZID=Europe/Berlin:20260617T100000
DTEND;TZID=Europe/Berlin:20260617T120000
UID:404126103-20260617T100000@VHSBENDORF
SUMMARY:Frauensprachkurs Deutsch  (404126103) 
LOCATION:Moschee Bendorf / Mülhofen, Am Röttchenshammer 52 , 56170 Bendorf 
END:VEVENT
BEGIN:VEVENT
DTSTAMP:20260422T163058
DTSTART;TZID=Europe/Berlin:20260618T100000
DTEND;TZID=Europe/Berlin:20260618T120000
UID:404126103-20260618T100000@VHSBENDORF
SUMMARY:Frauensprachkurs Deutsch  (404126103) 
LOCATION:Moschee Bendorf / Mülhofen, Am Röttchenshammer 52 , 56170 Bendorf 
END:VEVENT
BEGIN:VEVENT
DTSTAMP:20260422T163058
DTSTART;TZID=Europe/Berlin:20260624T100000
DTEND;TZID=Europe/Berlin:20260624T120000
UID:404126103-20260624T100000@VHSBENDORF
SUMMARY:Frauensprachkurs Deutsch  (404126103) 
LOCATION:Moschee Bendorf / Mülhofen, Am Röttchenshammer 52 , 56170 Bendorf 
END:VEVENT
BEGIN:VEVENT
DTSTAMP:20260422T163058
DTSTART;TZID=Europe/Berlin:20260625T100000
DTEND;TZID=Europe/Berlin:20260625T120000
UID:404126103-20260625T100000@VHSBENDORF
SUMMARY:Frauensprachkurs Deutsch  (404126103) 
LOCATION:Moschee Bendorf / Mülhofen, Am Röttchenshammer 52 , 56170 Bendorf 
END:VEVENT
BEGIN:VEVENT
DTSTAMP:20260422T163058
DTSTART;TZID=Europe/Berlin:20260812T100000
DTEND;TZID=Europe/Berlin:20260812T120000
UID:404126103-20260812T100000@VHSBENDORF
SUMMARY:Frauensprachkurs Deutsch  (404126103) 
LOCATION:Moschee Bendorf / Mülhofen, Am Röttchenshammer 52 , 56170 Bendorf 
END:VEVENT
BEGIN:VEVENT
DTSTAMP:20260422T163058
DTSTART;TZID=Europe/Berlin:20260813T100000
DTEND;TZID=Europe/Berlin:20260813T120000
UID:404126103-20260813T100000@VHSBENDORF
SUMMARY:Frauensprachkurs Deutsch  (404126103) 
LOCATION:Moschee Bendorf / Mülhofen, Am Röttchenshammer 52 , 56170 Bendorf 
END:VEVENT
BEGIN:VEVENT
DTSTAMP:20260422T163058
DTSTART;TZID=Europe/Berlin:20260819T100000
DTEND;TZID=Europe/Berlin:20260819T120000
UID:404126103-20260819T100000@VHSBENDORF
SUMMARY:Frauensprachkurs Deutsch  (404126103) 
LOCATION:Moschee Bendorf / Mülhofen, Am Röttchenshammer 52 , 56170 Bendorf 
END:VEVENT
BEGIN:VEVENT
DTSTAMP:20260422T163058
DTSTART;TZID=Europe/Berlin:20260820T100000
DTEND;TZID=Europe/Berlin:20260820T120000
UID:404126103-20260820T100000@VHSBENDORF
SUMMARY:Frauensprachkurs Deutsch  (404126103) 
LOCATION:Moschee Bendorf / Mülhofen, Am Röttchenshammer 52 , 56170 Bendorf 
END:VEVENT
BEGIN:VEVENT
DTSTAMP:20260422T163058
DTSTART;TZID=Europe/Berlin:20260826T100000
DTEND;TZID=Europe/Berlin:20260826T120000
UID:404126103-20260826T100000@VHSBENDORF
SUMMARY:Frauensprachkurs Deutsch  (404126103) 
LOCATION:Moschee Bendorf / Mülhofen, Am Röttchenshammer 52 , 56170 Bendorf 
END:VEVENT
BEGIN:VEVENT
DTSTAMP:20260422T163058
DTSTART;TZID=Europe/Berlin:20260827T100000
DTEND;TZID=Europe/Berlin:20260827T120000
UID:404126103-20260827T100000@VHSBENDORF
SUMMARY:Frauensprachkurs Deutsch  (404126103) 
LOCATION:Moschee Bendorf / Mülhofen, Am Röttchenshammer 52 , 56170 Bendorf 
END:VEVENT
BEGIN:VEVENT
DTSTAMP:20260422T163058
DTSTART;TZID=Europe/Berlin:20260902T100000
DTEND;TZID=Europe/Berlin:20260902T120000
UID:404126103-20260902T100000@VHSBENDORF
SUMMARY:Frauensprachkurs Deutsch  (404126103) 
LOCATION:Moschee Bendorf / Mülhofen, Am Röttchenshammer 52 , 56170 Bendorf 
END:VEVENT
BEGIN:VEVENT
DTSTAMP:20260422T163058
DTSTART;TZID=Europe/Berlin:20260903T100000
DTEND;TZID=Europe/Berlin:20260903T120000
UID:404126103-20260903T100000@VHSBENDORF
SUMMARY:Frauensprachkurs Deutsch  (404126103) 
LOCATION:Moschee Bendorf / Mülhofen, Am Röttchenshammer 52 , 56170 Bendorf 
END:VEVENT
BEGIN:VEVENT
DTSTAMP:20260422T163058
DTSTART;TZID=Europe/Berlin:20260909T100000
DTEND;TZID=Europe/Berlin:20260909T120000
UID:404126103-20260909T100000@VHSBENDORF
SUMMARY:Frauensprachkurs Deutsch  (404126103) 
LOCATION:Moschee Bendorf / Mülhofen, Am Röttchenshammer 52 , 56170 Bendorf 
END:VEVENT
BEGIN:VEVENT
DTSTAMP:20260422T163058
DTSTART;TZID=Europe/Berlin:20260910T100000
DTEND;TZID=Europe/Berlin:20260910T120000
UID:404126103-20260910T100000@VHSBENDORF
SUMMARY:Frauensprachkurs Deutsch  (404126103) 
LOCATION:Moschee Bendorf / Mülhofen, Am Röttchenshammer 52 , 56170 Bendorf 
END:VEVENT
BEGIN:VEVENT
DTSTAMP:20260422T163058
DTSTART;TZID=Europe/Berlin:20260916T100000
DTEND;TZID=Europe/Berlin:20260916T120000
UID:404126103-20260916T100000@VHSBENDORF
SUMMARY:Frauensprachkurs Deutsch  (404126103) 
LOCATION:Moschee Bendorf / Mülhofen, Am Röttchenshammer 52 , 56170 Bendorf 
END:VEVENT
BEGIN:VEVENT
DTSTAMP:20260422T163058
DTSTART;TZID=Europe/Berlin:20260917T100000
DTEND;TZID=Europe/Berlin:20260917T120000
UID:404126103-20260917T100000@VHSBENDORF
SUMMARY:Frauensprachkurs Deutsch  (404126103) 
LOCATION:Moschee Bendorf / Mülhofen, Am Röttchenshammer 52 , 56170 Bendorf 
END:VEVENT
BEGIN:VEVENT
DTSTAMP:20260422T163058
DTSTART;TZID=Europe/Berlin:20260923T100000
DTEND;TZID=Europe/Berlin:20260923T120000
UID:404126103-20260923T100000@VHSBENDORF
SUMMARY:Frauensprachkurs Deutsch  (404126103) 
LOCATION:Moschee Bendorf / Mülhofen, Am Röttchenshammer 52 , 56170 Bendorf 
END:VEVENT
BEGIN:VEVENT
DTSTAMP:20260422T163058
DTSTART;TZID=Europe/Berlin:20260924T100000
DTEND;TZID=Europe/Berlin:20260924T120000
UID:404126103-20260924T100000@VHSBENDORF
SUMMARY:Frauensprachkurs Deutsch  (404126103) 
LOCATION:Moschee Bendorf / Mülhofen, Am Röttchenshammer 52 , 56170 Bendorf 
END:VEVENT
BEGIN:VEVENT
DTSTAMP:20260422T163058
DTSTART;TZID=Europe/Berlin:20260930T100000
DTEND;TZID=Europe/Berlin:20260930T120000
UID:404126103-20260930T100000@VHSBENDORF
SUMMARY:Frauensprachkurs Deutsch  (404126103) 
LOCATION:Moschee Bendorf / Mülhofen, Am Röttchenshammer 52 , 56170 Bendorf 
END:VEVENT
BEGIN:VEVENT
DTSTAMP:20260422T163058
DTSTART;TZID=Europe/Berlin:20261001T100000
DTEND;TZID=Europe/Berlin:20261001T120000
UID:404126103-20261001T100000@VHSBENDORF
SUMMARY:Frauensprachkurs Deutsch  (404126103) 
LOCATION:Moschee Bendorf / Mülhofen, Am Röttchenshammer 52 , 56170 Bendorf 
END:VEVENT
BEGIN:VEVENT
DTSTAMP:20260422T163058
DTSTART;TZID=Europe/Berlin:20261021T100000
DTEND;TZID=Europe/Berlin:20261021T120000
UID:404126103-20261021T100000@VHSBENDORF
SUMMARY:Frauensprachkurs Deutsch  (404126103) 
LOCATION:Moschee Bendorf / Mülhofen, Am Röttchenshammer 52 , 56170 Bendorf 
END:VEVENT
BEGIN:VEVENT
DTSTAMP:20260422T163058
DTSTART;TZID=Europe/Berlin:20261022T100000
DTEND;TZID=Europe/Berlin:20261022T120000
UID:404126103-20261022T100000@VHSBENDORF
SUMMARY:Frauensprachkurs Deutsch  (404126103) 
LOCATION:Moschee Bendorf / Mülhofen, Am Röttchenshammer 52 , 56170 Bendorf 
END:VEVENT
BEGIN:VEVENT
DTSTAMP:20260422T163058
DTSTART;TZID=Europe/Berlin:20261028T100000
DTEND;TZID=Europe/Berlin:20261028T120000
UID:404126103-20261028T100000@VHSBENDORF
SUMMARY:Frauensprachkurs Deutsch  (404126103) 
LOCATION:Moschee Bendorf / Mülhofen, Am Röttchenshammer 52 , 56170 Bendorf 
END:VEVENT
BEGIN:VEVENT
DTSTAMP:20260422T163058
DTSTART;TZID=Europe/Berlin:20261029T100000
DTEND;TZID=Europe/Berlin:20261029T120000
UID:404126103-20261029T100000@VHSBENDORF
SUMMARY:Frauensprachkurs Deutsch  (404126103) 
LOCATION:Moschee Bendorf / Mülhofen, Am Röttchenshammer 52 , 56170 Bendorf 
END:VEVENT
BEGIN:VEVENT
DTSTAMP:20260422T163058
DTSTART;TZID=Europe/Berlin:20261104T100000
DTEND;TZID=Europe/Berlin:20261104T120000
UID:404126103-20261104T100000@VHSBENDORF
SUMMARY:Frauensprachkurs Deutsch  (404126103) 
LOCATION:Moschee Bendorf / Mülhofen, Am Röttchenshammer 52 , 56170 Bendorf 
END:VEVENT
BEGIN:VEVENT
DTSTAMP:20260422T163058
DTSTART;TZID=Europe/Berlin:20261105T100000
DTEND;TZID=Europe/Berlin:20261105T120000
UID:404126103-20261105T100000@VHSBENDORF
SUMMARY:Frauensprachkurs Deutsch  (404126103) 
LOCATION:Moschee Bendorf / Mülhofen, Am Röttchenshammer 52 , 56170 Bendorf 
END:VEVENT
BEGIN:VEVENT
DTSTAMP:20260422T163058
DTSTART;TZID=Europe/Berlin:20261111T100000
DTEND;TZID=Europe/Berlin:20261111T120000
UID:404126103-20261111T100000@VHSBENDORF
SUMMARY:Frauensprachkurs Deutsch  (404126103) 
LOCATION:Moschee Bendorf / Mülhofen, Am Röttchenshammer 52 , 56170 Bendorf 
END:VEVENT
BEGIN:VEVENT
DTSTAMP:20260422T163058
DTSTART;TZID=Europe/Berlin:20261112T100000
DTEND;TZID=Europe/Berlin:20261112T110000
UID:404126103-20261112T100000@VHSBENDORF
SUMMARY:Frauensprachkurs Deutsch  (404126103) 
LOCATION:Moschee Bendorf / Mülhofen, Am Röttchenshammer 52 , 56170 Bendorf 
END:VEVENT
BEGIN:VEVENT
DTSTAMP:20260422T163058
DTSTART;TZID=Europe/Berlin:20261118T100000
DTEND;TZID=Europe/Berlin:20261118T120000
UID:404126103-20261118T100000@VHSBENDORF
SUMMARY:Frauensprachkurs Deutsch  (404126103) 
LOCATION:Moschee Bendorf / Mülhofen, Am Röttchenshammer 52 , 56170 Bendorf 
END:VEVENT
BEGIN:VEVENT
DTSTAMP:20260422T163058
DTSTART;TZID=Europe/Berlin:20261119T100000
DTEND;TZID=Europe/Berlin:20261119T120000
UID:404126103-20261119T100000@VHSBENDORF
SUMMARY:Frauensprachkurs Deutsch  (404126103) 
LOCATION:Moschee Bendorf / Mülhofen, Am Röttchenshammer 52 , 56170 Bendorf 
END:VEVENT
END:VCALENDAR